BEGIN:VCALENDAR
VERSION:2.0
PRODID:-//Deja Vu Med Spa and Salon - ECPv6.15.18//NONSGML v1.0//EN
CALSCALE:GREGORIAN
METHOD:PUBLISH
X-ORIGINAL-URL:https://dejavumedspaandsalon.com
X-WR-CALDESC:Events for Deja Vu Med Spa and Salon
REFRESH-INTERVAL;VALUE=DURATION:PT1H
X-Robots-Tag:noindex
X-PUBLISHED-TTL:PT1H
BEGIN:VTIMEZONE
TZID:America/Los_Angeles
BEGIN:DAYLIGHT
TZOFFSETFROM:-0800
TZOFFSETTO:-0700
TZNAME:PDT
DTSTART:20240310T100000
END:DAYLIGHT
BEGIN:STANDARD
TZOFFSETFROM:-0700
TZOFFSETTO:-0800
TZNAME:PST
DTSTART:20241103T090000
END:STANDARD
BEGIN:DAYLIGHT
TZOFFSETFROM:-0800
TZOFFSETTO:-0700
TZNAME:PDT
DTSTART:20250309T100000
END:DAYLIGHT
BEGIN:STANDARD
TZOFFSETFROM:-0700
TZOFFSETTO:-0800
TZNAME:PST
DTSTART:20251102T090000
END:STANDARD
BEGIN:DAYLIGHT
TZOFFSETFROM:-0800
TZOFFSETTO:-0700
TZNAME:PDT
DTSTART:20260308T100000
END:DAYLIGHT
BEGIN:STANDARD
TZOFFSETFROM:-0700
TZOFFSETTO:-0800
TZNAME:PST
DTSTART:20261101T090000
END:STANDARD
END:VTIMEZONE
BEGIN:VEVENT
DTSTART;VALUE=DATE:20250501
DTEND;VALUE=DATE:20250601
DTSTAMP:20260424T014602
CREATED:20250509T231933Z
LAST-MODIFIED:20250602T172956Z
UID:56637-1746057600-1748735999@dejavumedspaandsalon.com
SUMMARY:May Specials 2025
DESCRIPTION:[vc_row css=”.vc_custom_1746832858410{padding-bottom: 3% !important;}”][vc_column][vc_column_text css=”.vc_custom_1746832795105{padding-bottom: 3% !important;}”] \nOur May Specials\nMAY is Women’s Health Month\n[/vc_column_text][vc_column_text css=””] \nYour mother. Your daughter. Your sister. Your wife. Your best friend. You. This month we recognize the importance of wellness for ALL women. \nThis month we will be highlighting treatments to promote women’s wellness and health. Take advantage of these deals and begin your journey to a healthy ‘you.’ \nDon’t forget! You are welcome to prepay for the treatment to lock in the price and make your appointment for a future date. Gift certificates available. \n[/vc_column_text][/vc_column][/vc_row][vc_row bg_type=”bg_color” bg_color_value=”#7C5290″ css=”.vc_custom_1746832943944{margin-bottom: 3% !important;}”][vc_column][vc_column_text css=”.vc_custom_1746820912828{padding-top: 2% !important;padding-bottom: 2% !important;}”] \nFresh-Faced Specials\nLove is in the air\, show your mate how much you care!\n[/vc_column_text][/vc_column][/vc_row][vc_row full_width=”stretch_row” css=”.vc_custom_1746820574768{padding-bottom: 5% !important;}”][vc_column width=”1/2″ css=”.vc_custom_1736809944111{padding-top: 3% !important;}”][/vc_column][vc_column width=”1/2″ css=”.vc_custom_1736809950582{padding-top: 3% !important;}”][vc_column_text css=”.vc_custom_1746832001964{padding-top: 3% !important;padding-bottom: 3% !important;background-color: #5F3176 !important;}”] \nMay 10 and 24 only\n[/vc_column_text][vc_column_text css=”.vc_custom_1746832884890{padding-top: 3% !important;}”] \nAnti-Aging Combos\nCombining a VI Peel with your Botox treatment results in 60% decrease in wrinkles vs just 37% with Botox alone! \nBuy 30 units or more of Botox and get your Thermage or VI Peel for\n$249 \n[/vc_column_text][/vc_column][/vc_row][vc_row css=”.vc_custom_1736810158167{padding-top: 3% !important;padding-bottom: 5% !important;}”][vc_column width=”1/2″][/vc_column][vc_column width=”1/2″][vc_column_text css=”.vc_custom_1746832407948{padding-top: 3% !important;padding-bottom: 3% !important;background-color: #5F3176 !important;}”] \nMay 17\n[/vc_column_text][vc_column_text css=”.vc_custom_1746832416630{padding-top: 3% !important;}”] \nVitamins\nNourish yourself from the inside out! With our vitamin injections or IV drips\, you can address hydration\, fat loss\, immunity\, skin and hair health\, energy\, recovery – and more! \nBring a friend and you each get $10 off your drip. \n[/vc_column_text][/vc_column][/vc_row][vc_row css=”.vc_custom_1736810158167{padding-top: 3% !important;padding-bottom: 5% !important;}”][vc_column width=”1/2″][/vc_column][vc_column width=”1/2″][vc_column_text css=”.vc_custom_1746832481166{padding-top: 3% !important;padding-bottom: 3% !important;background-color: #5F3176 !important;}”] \nAll Month Long\n[/vc_column_text][vc_column_text css=”.vc_custom_1746832564481{padding-top: 3% !important;}”] \nBody Restore\nRed light\, cavitation\, lymphatic stimulation \nOur red light therapy for the body penetrates deep into the cellular level\, stimulating circulation\, wound healing\, body detoxification and cell regeneration. Cavitation melts and breaks down fat while the lymphatic stimulation works to rid your body of toxins. Feel rested and revived from head to toe after each session. \n$130 \n[/vc_column_text][/vc_column][/vc_row][vc_row css=”.vc_custom_1736810158167{padding-top: 3% !important;padding-bottom: 5% !important;}”][vc_column width=”1/2″][/vc_column][vc_column width=”1/2″][vc_column_text css=”.vc_custom_1746832913340{padding-top: 3% !important;}”] \nDeja Vu Deluxe Facial with FREE gift\nThis is THE treatment to address all of your skin concerns and needs. Leave feeling refreshed – mind\, body and soul! \nFacial includes: exfoliation (choice of dermaplane or microdermabrasion)\, cleanse\, mask\, red light\, nano-needle\, radio frequency skin tightening\, cold hammer and finishing serums\, hand paraffin. \n$275 \nMini Deluxe: cleanse\, mask\, red light\, radio frequency skin tightening\, finishing serums\, cold hammer. \n$175 \n[/vc_column_text][/vc_column][/vc_row]
URL:https://dejavumedspaandsalon.com/events/may-specials-2025/
CATEGORIES:Specials
END:VEVENT
END:VCALENDAR