BEGIN:VCALENDAR
VERSION:2.0
PRODID:-//Deja Vu Med Spa and Salon - ECPv6.15.18//NONSGML v1.0//EN
CALSCALE:GREGORIAN
METHOD:PUBLISH
X-ORIGINAL-URL:https://dejavumedspaandsalon.com
X-WR-CALDESC:Events for Deja Vu Med Spa and Salon
REFRESH-INTERVAL;VALUE=DURATION:PT1H
X-Robots-Tag:noindex
X-PUBLISHED-TTL:PT1H
BEGIN:VTIMEZONE
TZID:America/Los_Angeles
BEGIN:DAYLIGHT
TZOFFSETFROM:-0800
TZOFFSETTO:-0700
TZNAME:PDT
DTSTART:20240310T100000
END:DAYLIGHT
BEGIN:STANDARD
TZOFFSETFROM:-0700
TZOFFSETTO:-0800
TZNAME:PST
DTSTART:20241103T090000
END:STANDARD
BEGIN:DAYLIGHT
TZOFFSETFROM:-0800
TZOFFSETTO:-0700
TZNAME:PDT
DTSTART:20250309T100000
END:DAYLIGHT
BEGIN:STANDARD
TZOFFSETFROM:-0700
TZOFFSETTO:-0800
TZNAME:PST
DTSTART:20251102T090000
END:STANDARD
BEGIN:DAYLIGHT
TZOFFSETFROM:-0800
TZOFFSETTO:-0700
TZNAME:PDT
DTSTART:20260308T100000
END:DAYLIGHT
BEGIN:STANDARD
TZOFFSETFROM:-0700
TZOFFSETTO:-0800
TZNAME:PST
DTSTART:20261101T090000
END:STANDARD
END:VTIMEZONE
BEGIN:VEVENT
DTSTART;TZID=America/Los_Angeles:20250602T080000
DTEND;TZID=America/Los_Angeles:20250630T170000
DTSTAMP:20260424T001951
CREATED:20250602T180554Z
LAST-MODIFIED:20250602T180927Z
UID:56659-1748851200-1751302800@dejavumedspaandsalon.com
SUMMARY:June Specials 2025
DESCRIPTION:[vc_row css=”.vc_custom_1746832858410{padding-bottom: 3% !important;}”][vc_column][vc_column_text css=”.vc_custom_1748885477362{padding-bottom: 3% !important;}”] \nJune Promotions\nDads\, Grads and Summer Plans\n[/vc_column_text][vc_column_text css=””] \nIt’s a busy season with much to celebrate. Let us help you indulge or de-stress from it all! \nDon’t forget! You are welcome to prepay for the treatment to lock in the price and make your appointment for a future date. Gift certificates available. \n[/vc_column_text][/vc_column][/vc_row][vc_row full_width=”stretch_row” css=”.vc_custom_1746820574768{padding-bottom: 5% !important;}”][vc_column width=”1/2″ css=”.vc_custom_1736809944111{padding-top: 3% !important;}”][/vc_column][vc_column width=”1/2″ css=”.vc_custom_1736809950582{padding-top: 3% !important;}”][vc_column_text css=”.vc_custom_1748886923441{padding-top: 3% !important;padding-bottom: 3% !important;background-color: #8A9786 !important;}”] \nFor Dad’s!\n[/vc_column_text][vc_column_text css=”.vc_custom_1748887480551{padding-top: 3% !important;}”] \nGentleman’s Facial plus Scalp Treatment\n90 minutes \nSimilar to a European Facial\, this classic facial is appropriate for all skin types and conditions\, with an emphasis on calm and relaxation. Additionally\, special attention is spent on scalp massage\, stimulation and circulation.\n$135 \n[/vc_column_text][/vc_column][/vc_row][vc_row css=”.vc_custom_1736810158167{padding-top: 3% !important;padding-bottom: 5% !important;}”][vc_column width=”1/2″][/vc_column][vc_column width=”1/2″][vc_column_text css=”.vc_custom_1748887379677{padding-top: 3% !important;padding-bottom: 3% !important;background-color: #8A9786 !important;}”] \nFor Grads (or anyone!)\n[/vc_column_text][vc_column_text css=”.vc_custom_1748887470002{padding-top: 3% !important;}”] \nEnzyme and Oxy Trio Treatment\nGreat way to shine a little brighter for all your upcoming ceremonies! \nThis facial promotes healing and rejuvenates sluggish\, tired skin depleted by toxins\, pollutants\, allergens\, improper diet and solar damage. \n$100 \nSend your graduate off with their skin and hair care essentials! \n15% off all skin and hair products \n[/vc_column_text][/vc_column][/vc_row][vc_row css=”.vc_custom_1736810158167{padding-top: 3% !important;padding-bottom: 5% !important;}”][vc_column width=”1/2″][/vc_column][vc_column width=”1/2″][vc_column_text css=”.vc_custom_1748887604701{padding-top: 3% !important;padding-bottom: 3% !important;background-color: #8A9786 !important;}”] \nVacation Prep\n[/vc_column_text][vc_column_text css=”.vc_custom_1748887650296{padding-top: 3% !important;}”] \nLash Lift and Tint\nDon’t worry about false lashes falling to the bottom of the pool. Lift and tint is what you should do. \n$145 \n[/vc_column_text][/vc_column][/vc_row][vc_row css=”.vc_custom_1736810158167{padding-top: 3% !important;padding-bottom: 5% !important;}”][vc_column width=”1/2″][/vc_column][vc_column width=”1/2″][vc_column_text css=”.vc_custom_1748887711309{padding-top: 3% !important;}”] \nWax and Sugar Hair Removal\nDon’t get caught by the pool letting ALL your hair hang out! Wax or sugar will keep you feeling fresh ALL SUMMER LONG! \nPrice varies by body area \n[/vc_column_text][/vc_column][/vc_row]
URL:https://dejavumedspaandsalon.com/events/june-specials-2025/
CATEGORIES:Specials
END:VEVENT
END:VCALENDAR