BEGIN:VCALENDAR
VERSION:2.0
PRODID:-//Deja Vu Med Spa and Salon - ECPv6.15.18//NONSGML v1.0//EN
CALSCALE:GREGORIAN
METHOD:PUBLISH
X-ORIGINAL-URL:https://dejavumedspaandsalon.com
X-WR-CALDESC:Events for Deja Vu Med Spa and Salon
REFRESH-INTERVAL;VALUE=DURATION:PT1H
X-Robots-Tag:noindex
X-PUBLISHED-TTL:PT1H
BEGIN:VTIMEZONE
TZID:America/Los_Angeles
BEGIN:DAYLIGHT
TZOFFSETFROM:-0800
TZOFFSETTO:-0700
TZNAME:PDT
DTSTART:20240310T100000
END:DAYLIGHT
BEGIN:STANDARD
TZOFFSETFROM:-0700
TZOFFSETTO:-0800
TZNAME:PST
DTSTART:20241103T090000
END:STANDARD
BEGIN:DAYLIGHT
TZOFFSETFROM:-0800
TZOFFSETTO:-0700
TZNAME:PDT
DTSTART:20250309T100000
END:DAYLIGHT
BEGIN:STANDARD
TZOFFSETFROM:-0700
TZOFFSETTO:-0800
TZNAME:PST
DTSTART:20251102T090000
END:STANDARD
BEGIN:DAYLIGHT
TZOFFSETFROM:-0800
TZOFFSETTO:-0700
TZNAME:PDT
DTSTART:20260308T100000
END:DAYLIGHT
BEGIN:STANDARD
TZOFFSETFROM:-0700
TZOFFSETTO:-0800
TZNAME:PST
DTSTART:20261101T090000
END:STANDARD
BEGIN:DAYLIGHT
TZOFFSETFROM:-0800
TZOFFSETTO:-0700
TZNAME:PDT
DTSTART:20270314T100000
END:DAYLIGHT
BEGIN:STANDARD
TZOFFSETFROM:-0700
TZOFFSETTO:-0800
TZNAME:PST
DTSTART:20271107T090000
END:STANDARD
END:VTIMEZONE
BEGIN:VEVENT
DTSTART;VALUE=DATE:20251024
DTEND;VALUE=DATE:20251101
DTSTAMP:20260423T165655
CREATED:20251025T002158Z
LAST-MODIFIED:20251025T005103Z
UID:56759-1761264000-1761955199@dejavumedspaandsalon.com
SUMMARY:October Specials 2025
DESCRIPTION:[vc_row full_width=”stretch_row” bg_type=”bg_color” css=”.vc_custom_1761352826640{padding-top: 5% !important;padding-bottom: 3% !important;}” bg_color_value=”#000000″][vc_column][vc_column_text css=”.vc_custom_1761352840328{padding-bottom: 3% !important;}”] \nOctober Specials\n[/vc_column_text][vc_column_text css=”.vc_custom_1761352974842{padding-bottom: 3% !important;}”] \nTrick Or Treat \n– BOUTIQUE – \n[/vc_column_text][vc_column_text css=”.vc_custom_1761352506316{padding-bottom: 3% !important;}”][/vc_column_text][vc_column_text css=””] \nSpooktacular deals thru 10/31! \n30% off Peels\, Services below and most skincare products!! \nmost skincare products!! \nIt’s really happening! Get ready! We have such sights to show you! \nWe have to warn you\, these savings are bewitching!! \n[/vc_column_text][/vc_column][vc_column][vc_row_inner css=”.vc_custom_1761353054686{padding-top: 5% !important;padding-bottom: 5% !important;}”][vc_column_inner width=”1/2″][/vc_column_inner][vc_column_inner width=”1/2″][vc_column_text css=”.vc_custom_1761352731713{padding-top: 3% !important;padding-bottom: 3% !important;background-color: #000000 !important;}”] \nGhoulish skin glow\n[/vc_column_text][vc_column_text css=”.vc_custom_1761352870217{padding-top: 3% !important;}”] \nLet us mummify your skin. The treatment uses carbon dioxide (CO2) gas to improve blood flow\, reduce inflammation\, and promote collagen production. Safe for all skin types\, pain-free and non-invasive. \nTry the Carboxy treatment for $95. \nOnly $60 when added to an additional treatment (i.e. microdermabrasion\, traditional facial\, etc.) \n[/vc_column_text][/vc_column_inner][vc_column_inner][vc_separator color=”white” border_width=”2″ el_width=”50″ css=”.vc_custom_1761353114407{padding-top: 2% !important;padding-bottom: 2% !important;}”][/vc_column_inner][/vc_row_inner][vc_row_inner css=”.vc_custom_1761353060302{padding-bottom: 5% !important;}”][vc_column_inner width=”1/2″][/vc_column_inner][vc_column_inner width=”1/2″][vc_column_text css=”.vc_custom_1761352739810{padding-top: 3% !important;padding-bottom: 3% !important;background-color: #000000 !important;}”] \nStay Forever young like Vampires do\n[/vc_column_text][vc_column_text css=”.vc_custom_1761352880461{padding-top: 3% !important;}”] \nOur signature facial with Vampire Mask is infused with POLY-L and Lactic Acid to Whiten Brighten and help reduce dark spots. Followed with cold hammer treatment to cool down\, locking in moisture and firming skins elasticity. \n$105 \n[/vc_column_text][/vc_column_inner][/vc_row_inner][vc_separator color=”white” border_width=”2″ el_width=”50″ css=”.vc_custom_1761353114407{padding-top: 2% !important;padding-bottom: 2% !important;}”][vc_row_inner css=”.vc_custom_1761352464093{padding-bottom: 3% !important;}”][vc_column_inner width=”1/2″][/vc_column_inner][vc_column_inner width=”1/2″][vc_column_text css=”.vc_custom_1761352749553{padding-top: 3% !important;padding-bottom: 3% !important;background-color: #000000 !important;}”] \nSpooky Peely Shedding\n[/vc_column_text][vc_column_text css=”.vc_custom_1761352889946{padding-top: 3% !important;}”] \nThis wont leave shivers down your spine but dead skin will shed off you face. Boost your exfoliating with a Vi or pumpkin enzyme peel. You know you want it. \n$90 and up \n  \nCall us ASAP to get your treats…. not tricks. \n626-574-7452 \n[/vc_column_text][/vc_column_inner][/vc_row_inner][/vc_column][/vc_row]
URL:https://dejavumedspaandsalon.com/events/october-specials-2025/
LOCATION:Deja Vu Med Spa & Salon\, 38 E Huntington Dr.\, Arcaida\, CA\, 91006\, United States
CATEGORIES:Holiday Specials,Specials
END:VEVENT
BEGIN:VEVENT
DTSTART;TZID=America/Los_Angeles:20251104T080000
DTEND;TZID=America/Los_Angeles:20251130T170000
DTSTAMP:20260423T165655
CREATED:20251104T173959Z
LAST-MODIFIED:20251104T174420Z
UID:56777-1762243200-1764522000@dejavumedspaandsalon.com
SUMMARY:November Specials 2025
DESCRIPTION:[vc_row css=”.vc_custom_1755120333253{padding-bottom: 3% !important;}”][vc_column][vc_column_text css=”.vc_custom_1762277400449{padding-bottom: 3% !important;}”] \nNovember Specials\n[/vc_column_text][vc_column_text css=””] \nHoliday season is kicking off… that means parties\, performances and pictures.\nLet us help you get ready for it all! \n[/vc_column_text][/vc_column][/vc_row][vc_row full_width=”stretch_row” css=”.vc_custom_1751411951403{padding-bottom: 5% !important;}” el_class=”phone-reverse-col”][vc_column width=”1/2″ css=”.vc_custom_1736809944111{padding-top: 3% !important;}”][/vc_column][vc_column width=”1/2″ css=”.vc_custom_1736809950582{padding-top: 3% !important;}”][vc_column_text css=”.vc_custom_1762278131550{padding-top: 3% !important;padding-bottom: 3% !important;background-color: #C5995A !important;}”] \nPicture Perfect with PRP\n[/vc_column_text][vc_column_text css=”.vc_custom_1762277540098{padding-top: 3% !important;}”] \nPlatelet Rich Plasma (PRP) Therapy injects or infuses your own platelets (liquid gold)\, which contain growth factors that promote tissue healing. \n$349 Facial or Scalp Injection \nAdd on Needling +$249 \nAdd on Stem Cells +$100 \n$800 PRP IV Infusion (full body benefits) \nOnly available Saturdays 11/8 and 11/22 \n[/vc_column_text][/vc_column][/vc_row][vc_row css=”.vc_custom_1751411960554{padding-top: 3% !important;padding-bottom: 5% !important;}” el_class=”phone-reverse-col”][vc_column width=”1/2″][/vc_column][vc_column width=”1/2″][vc_column_text css=”.vc_custom_1762278139774{padding-top: 3% !important;padding-right: 3% !important;padding-bottom: 3% !important;padding-left: 3% !important;background-color: #C5995A !important;}”] \nPlump-kin Facial\n[/vc_column_text][vc_column_text css=”.vc_custom_1762277819414{padding-top: 3% !important;}”] \nBegin your facial with a seasonal classic\, Pumpkin Enzyme to soften fine lines\, exfoliate\, improve texture and pigmentation. Followed with a Collagen Mask to plump and hydrate. This luxurious and cozy facial will leave you glowing and refreshed to face the holiday fun. \n$120 \n[/vc_column_text][/vc_column][/vc_row][vc_row css=”.vc_custom_1751411966408{padding-top: 3% !important;padding-bottom: 5% !important;}” el_class=”phone-reverse-col”][vc_column width=”1/2″][/vc_column][vc_column width=”1/2″][vc_column_text css=”.vc_custom_1762278147594{padding-top: 3% !important;padding-bottom: 3% !important;background-color: #C5995A !important;}”] \nEasy Glam\n[/vc_column_text][vc_column_text css=”.vc_custom_1762277886045{padding-top: 3% !important;}”] \nA lash lift and tint combination is the ideal way to be instantly ready for all of your holiday activities. \n$125 \n[/vc_column_text][/vc_column][/vc_row][vc_row css=”.vc_custom_1751411966408{padding-top: 3% !important;padding-bottom: 5% !important;}” el_class=”phone-reverse-col”][vc_column width=”1/2″][/vc_column][vc_column width=”1/2″][vc_column_text css=”.vc_custom_1762278155594{padding-top: 3% !important;padding-bottom: 3% !important;background-color: #C5995A !important;}”] \nBody Slim Treatment\n[/vc_column_text][vc_column_text css=”.vc_custom_1762277979685{padding-top: 3% !important;}”] \nThis full body treatment includes Bioslim body wrap\, infrared light\, body vibration and a foot detox. This 2-hour experience is great for detoxing\, lymphatic drainage\, circulation\, fat burning\, melting cellulite and of course\, relaxation. \n$250 \n[/vc_column_text][/vc_column][/vc_row]
URL:https://dejavumedspaandsalon.com/events/november-specials-2025/
LOCATION:Deja Vu Med Spa & Salon\, 38 E Huntington Dr.\, Arcaida\, CA\, 91006\, United States
CATEGORIES:Specials
ATTACH;FMTTYPE=image/jpeg:https://dejavumedspaandsalon.com/wp-content/uploads/2025/08/Header-2.jpg
END:VEVENT
BEGIN:VEVENT
DTSTART;TZID=America/Los_Angeles:20260130T080000
DTEND;TZID=America/Los_Angeles:20260228T170000
DTSTAMP:20260423T165655
CREATED:20260130T195747Z
LAST-MODIFIED:20260130T200141Z
UID:56786-1769760000-1772298000@dejavumedspaandsalon.com
SUMMARY:February Specials 2026
DESCRIPTION:[vc_row bg_type=”bg_color” bg_color_value=”#EEC6CC” css=”.vc_custom_1769803297379{margin-top: 0px !important;padding-top: 5% !important;}”][vc_column][vc_column_text css=”.vc_custom_1769802827040{padding-bottom: 3% !important;}”] \nFebruary Specials\n[/vc_column_text][vc_column_text css=”.vc_custom_1769803124113{margin-bottom: 0px !important;padding-bottom: 3% !important;}”] \nFall In Love With These Specials \n[/vc_column_text][/vc_column][/vc_row][vc_row full_width=”stretch_row” bg_type=”bg_color” css=”.vc_custom_1769803139535{padding-top: 0px !important;padding-bottom: 3% !important;}” el_class=”phone-reverse-col” bg_color_value=”#F3D6DB”][vc_column css=”.vc_custom_1736809944111{padding-top: 3% !important;}”][vc_column_text css=””] \nNeedling with Prp Starting as low as $600 \nor \nNano channeling/Needling with Exosomes\, \nPDRN-HA (stem cells)\, Peptides $200+ \nVisibly firmer\, brighter\, rejuvenated and smoother-looking complexion and fuller\, healthier looking hair \nBotox & VI Peel pair great together \nStarting at $250 \n(Can be done same day or split) \nChocolate Collagen Facial & Bio Slim Body Wrap with red light therapy \n$200 \nSpecials will start now and run til end of February. Dates that Adrian Rojas\, PA will only be available are Jan 31st\, Feb. 14th and 28th \n[/vc_column_text][/vc_column][/vc_row]
URL:https://dejavumedspaandsalon.com/events/february-specials-2026/
LOCATION:Deja Vu Med Spa & Salon\, 38 E Huntington Dr.\, Arcaida\, CA\, 91006\, United States
CATEGORIES:Holiday Specials
ATTACH;FMTTYPE=image/jpeg:https://dejavumedspaandsalon.com/wp-content/uploads/2025/08/Header-2.jpg
END:VEVENT
BEGIN:VEVENT
DTSTART;TZID=America/Los_Angeles:20260309T080000
DTEND;TZID=America/Los_Angeles:20260331T170000
DTSTAMP:20260423T165655
CREATED:20260310T000149Z
LAST-MODIFIED:20260310T003133Z
UID:56797-1773043200-1774976400@dejavumedspaandsalon.com
SUMMARY:March Specials 2026
DESCRIPTION:[vc_row bg_type=”image” parallax_style=”vcpb-default” bg_image_new=”id^56805|url^https://dejavumedspaandsalon.com/wp-content/uploads/2026/03/background.jpg|caption^null|alt^Green with sparkles background.|title^background|description^null” bg_image_repeat=”no-repeat” css=”.vc_custom_1773102652934{margin-top: 0px !important;padding-top: 5% !important;padding-bottom: 3% !important;}”][vc_column][vc_column_text css=”.vc_custom_1773101961768{margin-right: 10% !important;margin-left: 10% !important;padding-top: 2% !important;padding-bottom: 2% !important;background-color: #FFFFFF !important;}”] \nMarch Specials\n[/vc_column_text][vc_separator color=”custom” el_width=”80″ css=”.vc_custom_1773102071497{margin-right: 10% !important;margin-left: 10% !important;padding-top: 3% !important;padding-bottom: 3% !important;background-color: #FFFFFF !important;}” accent_color=”#40B35C”][vc_column_text css=”.vc_custom_1773102013552{margin-right: 10% !important;margin-bottom: 0px !important;margin-left: 10% !important;padding-bottom: 3% !important;background-color: #FFFFFF !important;}”] \nWhat a lucky month! \n  \n40% OFF \n[/vc_column_text][vc_column_text css=”.vc_custom_1773102089469{margin-right: 10% !important;margin-left: 10% !important;padding-right: 1% !important;padding-left: 1% !important;background-color: #FFFFFF !important;}”] \nSeries of 4 Microdermabrasions $99 each regularly $165 \nSeries of 4 Body wrap with Red-light $120 each regularly $200 \nSeries of 4 VI Peel Body or Face $270 each reg.$450 plus FREE Retinol Age Defying Treatment Moisturizer \nAt the end of every rainbow is a pot of gold. Find yours here. \nEvery week we will be drawing a name out of the pot for one lucky client to win a free or discounted service. Must come in for a treatment to be entered in to WIN. \n[/vc_column_text][vc_column_text css=”.vc_custom_1773102613431{margin-right: 10% !important;margin-left: 10% !important;padding-bottom: 2% !important;background-color: #FFFFFF !important;}”][/vc_column_text][/vc_column][/vc_row]
URL:https://dejavumedspaandsalon.com/events/march-specials-2026/
LOCATION:Deja Vu Med Spa & Salon\, 38 E Huntington Dr.\, Arcaida\, CA\, 91006\, United States
CATEGORIES:Events
ATTACH;FMTTYPE=image/jpeg:https://dejavumedspaandsalon.com/wp-content/uploads/2025/08/Header-2.jpg
END:VEVENT
BEGIN:VEVENT
DTSTART;TZID=America/Los_Angeles:20260326T080000
DTEND;TZID=America/Los_Angeles:20260630T170000
DTSTAMP:20260423T165655
CREATED:20260326T174115Z
LAST-MODIFIED:20260326T235701Z
UID:56827-1774512000-1782838800@dejavumedspaandsalon.com
SUMMARY:Limited Time Specials
DESCRIPTION:[vc_row gap=”5″ bg_type=”bg_color” ult_hide_row=”ult_hide_row_value” ult_hide_row_mobile=”mobile” ult_hide_row_mobile_large=”xl_mobile” css=”.vc_custom_1774569103555{margin-right: 5% !important;margin-left: 5% !important;border-top-width: 2px !important;border-right-width: 2% !important;border-bottom-width: 2px !important;border-left-width: 2px !important;padding-top: 15px !important;padding-right: 5% !important;padding-bottom: 10px !important;padding-left: 5% !important;background-color: #EBB0D0 !important;border-left-style: groove !important;border-right-style: groove !important;border-top-style: groove !important;border-bottom-style: groove !important;border-radius: 20px !important;border-color: #000000 !important;}”][vc_column width=”1/4″ css=”.vc_custom_1774567462582{margin-top: 50% !important;border-color: #000000 !important;}”][/vc_column][vc_column width=”1/2″][vc_column_text css=”.vc_custom_1774569078494{border-top-width: 2px !important;border-right-width: 2px !important;border-bottom-width: 2px !important;border-left-width: 2px !important;padding-top: 5% !important;padding-right: 5% !important;padding-bottom: 5% !important;padding-left: 5% !important;background-color: #DC65A5 !important;border-radius: 5px !important;border-color: #FFFFFF !important;}”] \nDEJA VU MED\nSPA & SALON\nLook good in your skin! \n[/vc_column_text][vc_column_text css=”.vc_custom_1774548095683{padding-top: 5% !important;padding-bottom: 3% !important;}”] \nFACE & BODY\nFACIALS | HAIR REMOVAL | ANTI-AGING CHEMICAL PEELS | LIGHT THERAPY I EAR CANDLING\nBODY WRAPS | BODY SCULPT & CONTOUR \n[/vc_column_text][vc_column_text css=”.vc_custom_1774548078095{padding-bottom: 3% !important;}”] \nHAIR & LASHES\nCUI I COLOR | HAIR EXTENSIONS | TOUPEES KERATIN SMOOTHING TREATMENT | SCALP CARE LASH LIFTS | LASH EXTENSIONS | LASH & BROW TINTS \n[/vc_column_text][vc_column_text css=”.vc_custom_1774548121419{padding-bottom: 3% !important;}”] \nMEDICAL AESTHETICS\nBOTOX | FILLERS | MICRONEEDLING PRP (PLATELET RICHPLASMA) | IV INFUSIONS VITAMIN INJECTIONS | LASER HAIR REMOVAL | ACNE (MOST PO INSURANCE ACCEPTED) \n[/vc_column_text][/vc_column][vc_column width=”1/4″ css=”.vc_custom_1774548532041{margin-top: 50% !important;border-top-width: 2px !important;border-right-width: 2px !important;border-bottom-width: 2px !important;border-left-width: 2px !important;padding-right: 8% !important;padding-bottom: 5% !important;padding-left: 8% !important;background-color: #F9EAE5 !important;border-left-style: dotted !important;border-right-style: dotted !important;border-top-style: dotted !important;border-bottom-style: dotted !important;border-radius: 30px !important;border-color: #000000 !important;}”][vc_column_text css=”.vc_custom_1774548356566{margin-top: 8% !important;margin-right: 5% !important;border-top-width: 2px !important;border-right-width: 2px !important;border-bottom-width: 2px !important;border-left-width: 2px !important;padding-top: 2% !important;padding-right: 2% !important;padding-bottom: 2% !important;padding-left: 2% !important;background-color: #000000 !important;border-left-style: dotted !important;border-right-style: dotted !important;border-top-style: dotted !important;border-bottom-style: dotted !important;border-radius: 35px !important;border-color: #FFFFFF !important;}”] \nLimited Time Specials! \n[/vc_column_text][vc_column_text css=”.vc_custom_1774549113748{margin-top: 5% !important;padding-top: 5% !important;padding-right: 5% !important;padding-bottom: 5% !important;padding-left: 5% !important;background-color: #623E98 !important;border-radius: 30px !important;}”] \n20% OFF\nYour First Visit Any Service \n[/vc_column_text][vc_column_text css=”.vc_custom_1774549054248{border-bottom-width: 2% !important;padding-bottom: 4% !important;border-bottom-style: dotted !important;border-color: #000000 !important;}”]One coupon per customer\nExpires: \n6-30-2026 AQ[/vc_column_text][vc_column_text css=”.vc_custom_1774549186698{margin-top: 5% !important;padding-top: 5% !important;padding-right: 5% !important;padding-bottom: 5% !important;padding-left: 5% !important;background-color: #643D98 !important;border-radius: 25px !important;}”] \nBuy\n\nSyringe\, Get 50% OFF\n2nd Syringe or\n20 Units Botox FREE \n[/vc_column_text][vc_column_text css=”.vc_custom_1774549232684{padding-bottom: 4% !important;}”]Please Mention offer\nwhen scheduling appoint.\nExpires:\n06-30-2026 AQ[/vc_column_text][/vc_column][/vc_row][vc_row gap=”5″ bg_type=”bg_color” ult_hide_row=”ult_hide_row_value” ult_hide_row_large_screen=”large_screen” ult_hide_row_desktop=”desktop” ult_hide_row_tablet=”tablet” ult_hide_row_tablet_small=”xs_tablet” css=”.vc_custom_1774569379692{margin-right: 5% !important;margin-left: 5% !important;border-top-width: 2px !important;border-right-width: 2% !important;border-bottom-width: 2px !important;border-left-width: 2px !important;padding-top: 15px !important;padding-right: 5% !important;padding-bottom: 10px !important;padding-left: 5% !important;background-color: #EBB0D0 !important;border-left-style: groove !important;border-right-style: groove !important;border-top-style: groove !important;border-bottom-style: groove !important;border-radius: 20px !important;border-color: #000000 !important;}” el_id=”mobile”][vc_column width=”1/3″ css=”.vc_custom_1774568806056{border-color: #000000 !important;}”][vc_column_text css=”.vc_custom_1774569264065{border-top-width: 2px !important;border-right-width: 5% !important;border-bottom-width: 2px !important;padding-top: 5% !important;padding-bottom: 5% !important;padding-left: 5% !important;background-color: #DC65A5 !important;border-radius: 5px !important;border-color: #FFFFFF !important;}”] \nDEJA VU MED\nSPA & SALON\nLook good in your skin! \n[/vc_column_text][/vc_column][vc_column width=”1/3″][vc_column_text css=”.vc_custom_1774548095683{padding-top: 5% !important;padding-bottom: 3% !important;}”] \nFACE & BODY\nFACIALS | HAIR REMOVAL | ANTI-AGING CHEMICAL PEELS | LIGHT THERAPY I EAR CANDLING\nBODY WRAPS | BODY SCULPT & CONTOUR \n[/vc_column_text][vc_column_text css=”.vc_custom_1774548078095{padding-bottom: 3% !important;}”] \nHAIR & LASHES\nCUI I COLOR | HAIR EXTENSIONS | TOUPEES KERATIN SMOOTHING TREATMENT | SCALP CARE LASH LIFTS | LASH EXTENSIONS | LASH & BROW TINTS \n[/vc_column_text][vc_column_text css=”.vc_custom_1774548121419{padding-bottom: 3% !important;}”] \nMEDICAL AESTHETICS\nBOTOX | FILLERS | MICRONEEDLING PRP (PLATELET RICHPLASMA) | IV INFUSIONS VITAMIN INJECTIONS | LASER HAIR REMOVAL | ACNE (MOST PO INSURANCE ACCEPTED) \n[/vc_column_text][/vc_column][vc_column width=”1/3″ css=”.vc_custom_1774569414070{border-top-width: 2px !important;border-right-width: 2px !important;border-bottom-width: 2px !important;border-left-width: 2px !important;padding-right: 8% !important;padding-bottom: 5% !important;padding-left: 8% !important;background-color: #F9EAE5 !important;border-left-style: dotted !important;border-right-style: dotted !important;border-top-style: dotted !important;border-bottom-style: dotted !important;border-radius: 30px !important;border-color: #000000 !important;}”][vc_column_text css=”.vc_custom_1774548356566{margin-top: 8% !important;margin-right: 5% !important;border-top-width: 2px !important;border-right-width: 2px !important;border-bottom-width: 2px !important;border-left-width: 2px !important;padding-top: 2% !important;padding-right: 2% !important;padding-bottom: 2% !important;padding-left: 2% !important;background-color: #000000 !important;border-left-style: dotted !important;border-right-style: dotted !important;border-top-style: dotted !important;border-bottom-style: dotted !important;border-radius: 35px !important;border-color: #FFFFFF !important;}”] \nLimited Time Specials! \n[/vc_column_text][vc_column_text css=”.vc_custom_1774549113748{margin-top: 5% !important;padding-top: 5% !important;padding-right: 5% !important;padding-bottom: 5% !important;padding-left: 5% !important;background-color: #623E98 !important;border-radius: 30px !important;}”] \n20% OFF\nYour First Visit Any Service \n[/vc_column_text][vc_column_text css=”.vc_custom_1774549054248{border-bottom-width: 2% !important;padding-bottom: 4% !important;border-bottom-style: dotted !important;border-color: #000000 !important;}”]One coupon per customer\nExpires: \n6-30-2026 AQ[/vc_column_text][vc_column_text css=”.vc_custom_1774549186698{margin-top: 5% !important;padding-top: 5% !important;padding-right: 5% !important;padding-bottom: 5% !important;padding-left: 5% !important;background-color: #643D98 !important;border-radius: 25px !important;}”] \nBuy\n\nSyringe\, Get 50% OFF\n2nd Syringe or\n20 Units Botox FREE \n[/vc_column_text][vc_column_text css=”.vc_custom_1774549232684{padding-bottom: 4% !important;}”]Please Mention offer\nwhen scheduling appoint.\nExpires:\n06-30-2026 AQ[/vc_column_text][/vc_column][/vc_row]
URL:https://dejavumedspaandsalon.com/events/limited-time-specials/
CATEGORIES:Specials
ATTACH;FMTTYPE=image/jpeg:https://dejavumedspaandsalon.com/wp-content/uploads/2025/08/Header-2.jpg
END:VEVENT
END:VCALENDAR