BEGIN:VCALENDAR
VERSION:2.0
PRODID:-//Deja Vu Med Spa and Salon - ECPv6.15.18//NONSGML v1.0//EN
CALSCALE:GREGORIAN
METHOD:PUBLISH
X-WR-CALNAME:Deja Vu Med Spa and Salon
X-ORIGINAL-URL:https://dejavumedspaandsalon.com
X-WR-CALDESC:Events for Deja Vu Med Spa and Salon
REFRESH-INTERVAL;VALUE=DURATION:PT1H
X-Robots-Tag:noindex
X-PUBLISHED-TTL:PT1H
BEGIN:VTIMEZONE
TZID:America/Los_Angeles
BEGIN:DAYLIGHT
TZOFFSETFROM:-0800
TZOFFSETTO:-0700
TZNAME:PDT
DTSTART:20240310T100000
END:DAYLIGHT
BEGIN:STANDARD
TZOFFSETFROM:-0700
TZOFFSETTO:-0800
TZNAME:PST
DTSTART:20241103T090000
END:STANDARD
BEGIN:DAYLIGHT
TZOFFSETFROM:-0800
TZOFFSETTO:-0700
TZNAME:PDT
DTSTART:20250309T100000
END:DAYLIGHT
BEGIN:STANDARD
TZOFFSETFROM:-0700
TZOFFSETTO:-0800
TZNAME:PST
DTSTART:20251102T090000
END:STANDARD
BEGIN:DAYLIGHT
TZOFFSETFROM:-0800
TZOFFSETTO:-0700
TZNAME:PDT
DTSTART:20260308T100000
END:DAYLIGHT
BEGIN:STANDARD
TZOFFSETFROM:-0700
TZOFFSETTO:-0800
TZNAME:PST
DTSTART:20261101T090000
END:STANDARD
END:VTIMEZONE
BEGIN:VEVENT
DTSTART;VALUE=DATE:20250701
DTEND;VALUE=DATE:20250801
DTSTAMP:20260423T210718
CREATED:20250701T172309Z
LAST-MODIFIED:20250701T231925Z
UID:56672-1751328000-1754006399@dejavumedspaandsalon.com
SUMMARY:July Specials 2025
DESCRIPTION:[vc_row css=”.vc_custom_1746832858410{padding-bottom: 3% !important;}”][vc_column][vc_column_text css=”.vc_custom_1751390665067{padding-bottom: 3% !important;}”] \nJuly Promotions\nCelebrate FREEdom\n[/vc_column_text][vc_column_text css=””] \nUSA is the home of the brave\, land of the FREE! Enjoy some free perks this month added on to some of our most popular services. \n(Be sure to mention this mailer to receive the free perk) \n[/vc_column_text][/vc_column][/vc_row][vc_row full_width=”stretch_row” css=”.vc_custom_1751411951403{padding-bottom: 5% !important;}” el_class=”phone-reverse-col”][vc_column width=”1/2″ css=”.vc_custom_1736809944111{padding-top: 3% !important;}”][/vc_column][vc_column width=”1/2″ css=”.vc_custom_1736809950582{padding-top: 3% !important;}”][vc_column_text css=”.vc_custom_1751390968995{padding-top: 3% !important;padding-bottom: 3% !important;background-color: #657361 !important;}”] \nDouble Up!\n[/vc_column_text][vc_column_text css=”.vc_custom_1751390762103{padding-top: 3% !important;}”] \nGet a FREE additional specialty mask treatment & Red Light with a European Facial\nOur classic facial typically includes a single mask treatment. Enjoy an additional mask specific for your skin needs. Enjoy the ultimate benefit of extra care! \n[/vc_column_text][/vc_column][/vc_row][vc_row css=”.vc_custom_1751411960554{padding-top: 3% !important;padding-bottom: 5% !important;}” el_class=”phone-reverse-col”][vc_column width=”1/2″][/vc_column][vc_column width=”1/2″][vc_column_text css=”.vc_custom_1751390979825{padding: 3% !important;background-color: #657361 !important;}”] \nExfoliate and Firm\n[/vc_column_text][vc_column_text css=”.vc_custom_1751391039260{padding-top: 3% !important;}”] \nFREE Glacial Treatment with a Microdermabrasion Facial\nGet a hearty (but enjoyable!) exfoliation with our Microdermabrasion Facial. The final steps of the service will include a cold hammer treatment. This non-invasive\, painless technique reduces inflammation\, tightens pores and firms the skin. \n[/vc_column_text][/vc_column][/vc_row][vc_row css=”.vc_custom_1751411966408{padding-top: 3% !important;padding-bottom: 5% !important;}” el_class=”phone-reverse-col”][vc_column width=”1/2″][/vc_column][vc_column width=”1/2″][vc_column_text css=”.vc_custom_1751391253225{padding-top: 3% !important;padding-bottom: 3% !important;background-color: #657361 !important;}”] \nColor and Hydrate\n[/vc_column_text][vc_column_text css=”.vc_custom_1751391294204{padding-top: 3% !important;}”] \nFREE Hydrating Hair Mask with any Hair Color Treatment\nEnjoy some extra care for your hair with a conditioning hair mask added to your hair-coloring appointment. \nGet hair that looks good and is treated great! \n[/vc_column_text][/vc_column][/vc_row][vc_row css=”.vc_custom_1751411976665{padding-top: 3% !important;padding-bottom: 5% !important;}” el_class=”phone-reverse-col”][vc_column width=”1/2″][/vc_column][vc_column width=”1/2″][vc_column_text css=”.vc_custom_1751391253225{padding-top: 3% !important;padding-bottom: 3% !important;background-color: #657361 !important;}”] \nColor and Hydrate\n[/vc_column_text][vc_column_text css=”.vc_custom_1751391441382{padding-top: 3% !important;}”] \nFREE foot detox with a Red Light Body Treatment\nOur red light therapy for the body penetrates deep into the cellular level\, stimulating circulation\, wound healing\, body detoxification and cell regeneration. Followed by our 30 minute Foot Detox to purge unwanted toxins from your body. \nThis duo treatment will leave you feeling great from head to toe. \n[/vc_column_text][/vc_column][/vc_row][vc_row css=”.vc_custom_1736810158167{padding-top: 3% !important;padding-bottom: 5% !important;}”][vc_column width=”1/2″][/vc_column][vc_column width=”1/2″][vc_column_text css=”.vc_custom_1751391523544{padding-top: 3% !important;}”] \nDeja Vu Deluxe Facial with FREE gift\nThis is THE treatment to address all of your skin concerns and needs. Leave feeling refreshed – mind\, body and soul! \nFacial includes: exfoliation (choice of dermaplane or microdermabrasion)\, cleanse\, mask\, red light\, nano-needle\, radio frequency skin tightening\, cold hammer and finishing serums\, hand paraffin. \n$275 \nMini Deluxe: cleanse\, mask\, red light\, radio frequency skin tightening\, finishing serums\, cold hammer\, hand paraffin. \n$175 \n[/vc_column_text][/vc_column][/vc_row]
URL:https://dejavumedspaandsalon.com/events/july-specials-2025/
CATEGORIES:Specials
END:VEVENT
END:VCALENDAR