BEGIN:VCALENDAR
VERSION:2.0
PRODID:-//Deja Vu Med Spa and Salon - ECPv6.15.18//NONSGML v1.0//EN
CALSCALE:GREGORIAN
METHOD:PUBLISH
X-WR-CALNAME:Deja Vu Med Spa and Salon
X-ORIGINAL-URL:https://dejavumedspaandsalon.com
X-WR-CALDESC:Events for Deja Vu Med Spa and Salon
REFRESH-INTERVAL;VALUE=DURATION:PT1H
X-Robots-Tag:noindex
X-PUBLISHED-TTL:PT1H
BEGIN:VTIMEZONE
TZID:America/Los_Angeles
BEGIN:DAYLIGHT
TZOFFSETFROM:-0800
TZOFFSETTO:-0700
TZNAME:PDT
DTSTART:20230312T100000
END:DAYLIGHT
BEGIN:STANDARD
TZOFFSETFROM:-0700
TZOFFSETTO:-0800
TZNAME:PST
DTSTART:20231105T090000
END:STANDARD
BEGIN:DAYLIGHT
TZOFFSETFROM:-0800
TZOFFSETTO:-0700
TZNAME:PDT
DTSTART:20240310T100000
END:DAYLIGHT
BEGIN:STANDARD
TZOFFSETFROM:-0700
TZOFFSETTO:-0800
TZNAME:PST
DTSTART:20241103T090000
END:STANDARD
BEGIN:DAYLIGHT
TZOFFSETFROM:-0800
TZOFFSETTO:-0700
TZNAME:PDT
DTSTART:20250309T100000
END:DAYLIGHT
BEGIN:STANDARD
TZOFFSETFROM:-0700
TZOFFSETTO:-0800
TZNAME:PST
DTSTART:20251102T090000
END:STANDARD
END:VTIMEZONE
BEGIN:VEVENT
DTSTART;VALUE=DATE:20241018
DTEND;VALUE=DATE:20241101
DTSTAMP:20260424T070037
CREATED:20241018T225139Z
LAST-MODIFIED:20241018T230504Z
UID:56502-1729209600-1730419199@dejavumedspaandsalon.com
SUMMARY:October Specials 2024
DESCRIPTION:[vc_row css=”.vc_custom_1729292279071{padding-bottom: 3% !important;}”][vc_column][vc_column_text css=””] \nTrick or Treat\nSpecial TREAT with each October deal\n[/vc_column_text][/vc_column][/vc_row][vc_row css=”.vc_custom_1729292384864{padding-bottom: 3% !important;}”][vc_column width=”1/2″][vc_column_text css=””] \nMICRONEEDLING $349\nSkinPen microneedling is an FDA-approved device which is a minimally invasive procedure that stimulates skin\, producing more collagen and elastin. These proteins keep skin firm and smooth. \nMicroNeedling with PRP $600 \nMicroneedling with an infusion of patient’s platelet-rich plasma to improve skin texture and tone\, reduce wrinkles\, and encourage new collagen growth.[/vc_column_text][/vc_column][vc_column width=”1/2″][vc_column_text css=””] \nPRP $349\nPlatelet Rich Plasma can improve the appearance of acne scars\, stretch marks\, scars and dark under eye circles. PRP can improve texture and tone\, reduce wrinkles\, volume loss and encourage new collagen growth. \nPRP Hair Restoration $450 \nPRP can be effective in preventing hair loss and promoting new hair growth.[/vc_column_text][/vc_column][/vc_row][vc_row css=”.vc_custom_1729292384864{padding-bottom: 3% !important;}”][vc_column width=”1/2″][vc_column_text css=””] \nPUMPKIN FACIAL $90\nA treat for your senses as well as your skin! Our European facial is upgraded with our Therapeutic Pumpkin Mask. It’s an excellent treatment for rough texture\, acne\, resilient skin\, sun damage and large pores.[/vc_column_text][/vc_column][vc_column width=”1/2″][vc_column_text css=””] \nLIP FLIP $75 (Reg.$125)\nBotox injected into the muscle above the top lip which relaxes the muscle\, causing the lip to flip up\, giving the appearance of a fuller lip.[/vc_column_text][/vc_column][/vc_row][vc_row css=”.vc_custom_1729292384864{padding-bottom: 3% !important;}”][vc_column width=”1/2″][vc_column_text css=””] \nVITAMIN SHOTS $25 & up\nIV therapy and shots are a way of quickly and efficiently administering vitamins directly into the bloodstream or muscle for faster absorption.[/vc_column_text][/vc_column][vc_column width=”1/2″][vc_column_text css=””] \nIV THERAPY\nImmunity – For immunity to boost or recovery. Contains Vitamin C (x2)\, Zinc\, B Complex\, Magnesium\, and Glutathione. ($159) \nMyer’s Cocktail – IV with B Vitamins\, Vitamin C\, Magnesium\, Calcium\, and Glutathione. ($149) \nAnti Aging – IV with B vitamins\, Vitamin C\, Amino Acids\, and Glutathione. ($139)[/vc_column_text][/vc_column][/vc_row][vc_row css=”.vc_custom_1729292384864{padding-bottom: 3% !important;}”][vc_column width=”1/2″][/vc_column][vc_column width=”1/2″][vc_column_text css=””] \nPRODUCT HIGHLIGHT\nThe PCA SKIN Ideal Complex Revitalizing Eye Gel strengthens\, firms and lifts the skin around the entire eye area\, including the eyelid. Its light gel texture is excellent for all skin types. One product to treat dark circles\, puffiness\, fine lines\, wrinkles and sagging eyelids simultaneously.[/vc_column_text][/vc_column][/vc_row]
URL:https://dejavumedspaandsalon.com/events/october-specials-2024/
CATEGORIES:Specials
END:VEVENT
END:VCALENDAR