BEGIN:VCALENDAR
VERSION:2.0
PRODID:-//Deja Vu Med Spa and Salon - ECPv6.15.18//NONSGML v1.0//EN
CALSCALE:GREGORIAN
METHOD:PUBLISH
X-ORIGINAL-URL:https://dejavumedspaandsalon.com
X-WR-CALDESC:Events for Deja Vu Med Spa and Salon
REFRESH-INTERVAL;VALUE=DURATION:PT1H
X-Robots-Tag:noindex
X-PUBLISHED-TTL:PT1H
BEGIN:VTIMEZONE
TZID:America/Los_Angeles
BEGIN:DAYLIGHT
TZOFFSETFROM:-0800
TZOFFSETTO:-0700
TZNAME:PDT
DTSTART:20230312T100000
END:DAYLIGHT
BEGIN:STANDARD
TZOFFSETFROM:-0700
TZOFFSETTO:-0800
TZNAME:PST
DTSTART:20231105T090000
END:STANDARD
BEGIN:DAYLIGHT
TZOFFSETFROM:-0800
TZOFFSETTO:-0700
TZNAME:PDT
DTSTART:20240310T100000
END:DAYLIGHT
BEGIN:STANDARD
TZOFFSETFROM:-0700
TZOFFSETTO:-0800
TZNAME:PST
DTSTART:20241103T090000
END:STANDARD
BEGIN:DAYLIGHT
TZOFFSETFROM:-0800
TZOFFSETTO:-0700
TZNAME:PDT
DTSTART:20250309T100000
END:DAYLIGHT
BEGIN:STANDARD
TZOFFSETFROM:-0700
TZOFFSETTO:-0800
TZNAME:PST
DTSTART:20251102T090000
END:STANDARD
END:VTIMEZONE
BEGIN:VEVENT
DTSTART;VALUE=DATE:20240926
DTEND;VALUE=DATE:20240930
DTSTAMP:20260424T083525
CREATED:20240926T231705Z
LAST-MODIFIED:20240929T151118Z
UID:56426-1727308800-1727654399@dejavumedspaandsalon.com
SUMMARY:September Specials 2024
DESCRIPTION:[vc_row][vc_column width=”1/6″][/vc_column][vc_column width=”2/3″][vc_column_text css=””] \nGoodbye Summer\, Hello Fresh Face!\nSummer activities and relaxed routines can wreak havoc on your skin. Get back to your best with our September specials! \n\nLIQUID FACELIFT\n\nJuvederm + Botox = First 20 Units FREE \n\nFOREHEAD/EYE LIFT OR JAWLINE FIRMING\n\n20+ Units of Botox\, FREE Mini Product Kit \n\nLIFT AND FIRM FACIAL\n\n$250 (Normally $400) \nMore Specials:\n\nLASH LIFT + TINT = $130\nBROW LAMINATION + TINT = $85\nALL FOUR SERVICES = $185\n\n[/vc_column_text][/vc_column][vc_column width=”1/6″][/vc_column][/vc_row]
URL:https://dejavumedspaandsalon.com/events/september-specials-2024/
CATEGORIES:Specials
END:VEVENT
END:VCALENDAR