BEGIN:VCALENDAR
VERSION:2.0
PRODID:-//Deja Vu Med Spa and Salon - ECPv6.15.18//NONSGML v1.0//EN
CALSCALE:GREGORIAN
METHOD:PUBLISH
X-ORIGINAL-URL:https://dejavumedspaandsalon.com
X-WR-CALDESC:Events for Deja Vu Med Spa and Salon
REFRESH-INTERVAL;VALUE=DURATION:PT1H
X-Robots-Tag:noindex
X-PUBLISHED-TTL:PT1H
BEGIN:VTIMEZONE
TZID:America/Los_Angeles
BEGIN:DAYLIGHT
TZOFFSETFROM:-0800
TZOFFSETTO:-0700
TZNAME:PDT
DTSTART:20240310T100000
END:DAYLIGHT
BEGIN:STANDARD
TZOFFSETFROM:-0700
TZOFFSETTO:-0800
TZNAME:PST
DTSTART:20241103T090000
END:STANDARD
BEGIN:DAYLIGHT
TZOFFSETFROM:-0800
TZOFFSETTO:-0700
TZNAME:PDT
DTSTART:20250309T100000
END:DAYLIGHT
BEGIN:STANDARD
TZOFFSETFROM:-0700
TZOFFSETTO:-0800
TZNAME:PST
DTSTART:20251102T090000
END:STANDARD
BEGIN:DAYLIGHT
TZOFFSETFROM:-0800
TZOFFSETTO:-0700
TZNAME:PDT
DTSTART:20260308T100000
END:DAYLIGHT
BEGIN:STANDARD
TZOFFSETFROM:-0700
TZOFFSETTO:-0800
TZNAME:PST
DTSTART:20261101T090000
END:STANDARD
END:VTIMEZONE
BEGIN:VEVENT
DTSTART;VALUE=DATE:20250911
DTEND;VALUE=DATE:20251001
DTSTAMP:20260423T170629
CREATED:20250911T222534Z
LAST-MODIFIED:20250912T233153Z
UID:56718-1757548800-1759276799@dejavumedspaandsalon.com
SUMMARY:September Specials 2025
DESCRIPTION:[vc_row css=”.vc_custom_1755120333253{padding-bottom: 3% !important;}”][vc_column][vc_column_text css=”.vc_custom_1757629570495{padding-bottom: 3% !important;}”] \nSeptember Specials\n[/vc_column_text][vc_column_text css=””] \nSummer is wrapping up and you enjoyed your time in the sun… but your skin probably didn’t! \nThis month\, let’s tackle the sun damage. Get hydrated\, target skin pigmentation and fight those fine lines and texture. \n[/vc_column_text][/vc_column][/vc_row][vc_row full_width=”stretch_row” css=”.vc_custom_1751411951403{padding-bottom: 5% !important;}” el_class=”phone-reverse-col”][vc_column width=”1/2″ css=”.vc_custom_1736809944111{padding-top: 3% !important;}”][/vc_column][vc_column width=”1/2″ css=”.vc_custom_1736809950582{padding-top: 3% !important;}”][vc_column_text css=”.vc_custom_1757719891466{padding-top: 3% !important;padding-bottom: 3% !important;background-color: #8A9786 !important;}”] \nClear and Even BOGO\n[/vc_column_text][vc_column_text css=”.vc_custom_1757631172529{padding-top: 3% !important;}”] \nRadiant skin with Vi Derm Peel. \n Buy One $250\, Get One for $150. \nThis limited time offer is perfect for renewing your glow and treating a friend (or yourself again) at a great value! \n[/vc_column_text][/vc_column][/vc_row][vc_row css=”.vc_custom_1751411960554{padding-top: 3% !important;padding-bottom: 5% !important;}” el_class=”phone-reverse-col”][vc_column width=”1/2″][/vc_column][vc_column width=”1/2″][vc_column_text css=”.vc_custom_1757719902879{padding-top: 3% !important;padding-right: 3% !important;padding-bottom: 3% !important;padding-left: 3% !important;background-color: #8A9786 !important;}”] \nLiquid Facelift\n[/vc_column_text][vc_column_text css=”.vc_custom_1757696196534{padding-top: 3% !important;}”] \nFace Filler + Botox \nGet your first 20 units of Botox free when you purchase Juvederm/Voluma and Botox on the same day. \n[/vc_column_text][/vc_column][/vc_row][vc_row css=”.vc_custom_1751411966408{padding-top: 3% !important;padding-bottom: 5% !important;}” el_class=”phone-reverse-col”][vc_column width=”1/2″][/vc_column][vc_column width=”1/2″][vc_column_text css=”.vc_custom_1757719913653{padding-top: 3% !important;padding-bottom: 3% !important;background-color: #8A9786 !important;}”] \nBreathe Life Into Your Skin\n[/vc_column_text][vc_column_text css=”.vc_custom_1757629938119{padding-top: 3% !important;}”] \nIntroducing Carboxy Skin Therapy. Our newest skin treatment leaves skin dramatically brighter\, fresher\, even-toned\, less-lined and supple after first use. \nThe treatment uses carbon dioxide (CO2) gas to improve blood flow\, reduce inflammation\, and promote collagen production. Safe for all skin types\, pain-free and non-invasive. \nTry the Carboxy treatment alone for $95 intro rate\, or for just $60 when added to an additional treatment (i.e. microdermabrasion\, traditional facial\, etc.) \n[/vc_column_text][/vc_column][/vc_row]
URL:https://dejavumedspaandsalon.com/events/september-specials-2025/
CATEGORIES:Specials
ATTACH;FMTTYPE=image/jpeg:https://dejavumedspaandsalon.com/wp-content/uploads/2025/08/Header-2.jpg
END:VEVENT
END:VCALENDAR