BEGIN:VCALENDAR
VERSION:2.0
PRODID:-//Deja Vu Med Spa and Salon - ECPv6.15.18//NONSGML v1.0//EN
CALSCALE:GREGORIAN
METHOD:PUBLISH
X-WR-CALNAME:Deja Vu Med Spa and Salon
X-ORIGINAL-URL:https://dejavumedspaandsalon.com
X-WR-CALDESC:Events for Deja Vu Med Spa and Salon
REFRESH-INTERVAL;VALUE=DURATION:PT1H
X-Robots-Tag:noindex
X-PUBLISHED-TTL:PT1H
BEGIN:VTIMEZONE
TZID:America/Los_Angeles
BEGIN:DAYLIGHT
TZOFFSETFROM:-0800
TZOFFSETTO:-0700
TZNAME:PDT
DTSTART:20230312T100000
END:DAYLIGHT
BEGIN:STANDARD
TZOFFSETFROM:-0700
TZOFFSETTO:-0800
TZNAME:PST
DTSTART:20231105T090000
END:STANDARD
BEGIN:DAYLIGHT
TZOFFSETFROM:-0800
TZOFFSETTO:-0700
TZNAME:PDT
DTSTART:20240310T100000
END:DAYLIGHT
BEGIN:STANDARD
TZOFFSETFROM:-0700
TZOFFSETTO:-0800
TZNAME:PST
DTSTART:20241103T090000
END:STANDARD
BEGIN:DAYLIGHT
TZOFFSETFROM:-0800
TZOFFSETTO:-0700
TZNAME:PDT
DTSTART:20250309T100000
END:DAYLIGHT
BEGIN:STANDARD
TZOFFSETFROM:-0700
TZOFFSETTO:-0800
TZNAME:PST
DTSTART:20251102T090000
END:STANDARD
BEGIN:DAYLIGHT
TZOFFSETFROM:-0800
TZOFFSETTO:-0700
TZNAME:PDT
DTSTART:20260308T100000
END:DAYLIGHT
BEGIN:STANDARD
TZOFFSETFROM:-0700
TZOFFSETTO:-0800
TZNAME:PST
DTSTART:20261101T090000
END:STANDARD
END:VTIMEZONE
BEGIN:VEVENT
DTSTART;VALUE=DATE:20241224
DTEND;VALUE=DATE:20250104
DTSTAMP:20260424T083550
CREATED:20241224T212008Z
LAST-MODIFIED:20241224T231242Z
UID:56550-1734998400-1735948799@dejavumedspaandsalon.com
SUMMARY:Holiday Facial Special
DESCRIPTION:[vc_row][vc_column][vc_column_text css=”.vc_custom_1735075176669{padding-bottom: 3% !important;}”] \nOur clients are the best gift!\n[/vc_column_text][/vc_column][/vc_row][vc_row css=”.vc_custom_1735081955832{padding-bottom: 5% !important;}”][vc_column][vc_row_inner css=”.vc_custom_1735081810946{padding-bottom: 5% !important;}”][vc_column_inner width=”1/2″][/vc_column_inner][vc_column_inner width=”1/2″][/vc_column_inner][/vc_row_inner][/vc_column][vc_column][vc_column_text css=”.vc_custom_1735081928494{padding-bottom: 5% !important;}”]*Holiday Facial Special* $85 European Facial with a FREE upgrade to Microdermabrasion (normally $160). Appointments available during the Christmas & New Year weeks. Call for an appointment or message us on Instagram.[/vc_column_text][/vc_column][/vc_row][vc_row css=”.vc_custom_1735075779349{padding-bottom: 3% !important;}”][vc_column][vc_column_text css=”.vc_custom_1735081961141{padding-bottom: 3% !important;}”]We will be keeping irregular desk hours during the Christmas and New Year holiday weeks. Skincare and hair removal services will be available by appointment only. We thank you for your patience in receiving call backs as we will return messages as soon as we are available.[/vc_column_text][vc_column_text css=””] \nHoliday Desk Hours: \nChristmas Eve 12/24 – 9:00am-2:00pm \nChristmas Day 12/25-12/30 – Closed \nNew Years Eve 12/31 – 9:00am-4:00pm \nNew Years Day 1/1/25-1/2/25 – Closed \nResuming regular desk & salon hours beginning Friday\, January 3\, 2025 \nFirst Nurse Day of 2025 is Saturday\, January 4th (Botox/fillers/laser\, etc.) \n[/vc_column_text][/vc_column][/vc_row]
URL:https://dejavumedspaandsalon.com/events/holiday-facial-special/
LOCATION:Deja Vu Med Spa & Salon\, 38 E Huntington Dr.\, Arcaida\, CA\, 91006\, United States
CATEGORIES:Holiday Specials
END:VEVENT
END:VCALENDAR