BEGIN:VCALENDAR
VERSION:2.0
PRODID:-//Deja Vu Med Spa and Salon - ECPv6.15.18//NONSGML v1.0//EN
CALSCALE:GREGORIAN
METHOD:PUBLISH
X-WR-CALNAME:Deja Vu Med Spa and Salon
X-ORIGINAL-URL:https://dejavumedspaandsalon.com
X-WR-CALDESC:Events for Deja Vu Med Spa and Salon
REFRESH-INTERVAL;VALUE=DURATION:PT1H
X-Robots-Tag:noindex
X-PUBLISHED-TTL:PT1H
BEGIN:VTIMEZONE
TZID:America/Los_Angeles
BEGIN:DAYLIGHT
TZOFFSETFROM:-0800
TZOFFSETTO:-0700
TZNAME:PDT
DTSTART:20240310T100000
END:DAYLIGHT
BEGIN:STANDARD
TZOFFSETFROM:-0700
TZOFFSETTO:-0800
TZNAME:PST
DTSTART:20241103T090000
END:STANDARD
BEGIN:DAYLIGHT
TZOFFSETFROM:-0800
TZOFFSETTO:-0700
TZNAME:PDT
DTSTART:20250309T100000
END:DAYLIGHT
BEGIN:STANDARD
TZOFFSETFROM:-0700
TZOFFSETTO:-0800
TZNAME:PST
DTSTART:20251102T090000
END:STANDARD
BEGIN:DAYLIGHT
TZOFFSETFROM:-0800
TZOFFSETTO:-0700
TZNAME:PDT
DTSTART:20260308T100000
END:DAYLIGHT
BEGIN:STANDARD
TZOFFSETFROM:-0700
TZOFFSETTO:-0800
TZNAME:PST
DTSTART:20261101T090000
END:STANDARD
END:VTIMEZONE
BEGIN:VEVENT
DTSTART;TZID=America/Los_Angeles:20250311T080000
DTEND;TZID=America/Los_Angeles:20250331T170000
DTSTAMP:20260424T013903
CREATED:20250311T225735Z
LAST-MODIFIED:20250311T230845Z
UID:56591-1741680000-1743440400@dejavumedspaandsalon.com
SUMMARY:March Specials 2025
DESCRIPTION:[vc_row bg_type=”image” parallax_style=”vcpb-default” bg_image_new=”id^56594|url^https://dejavumedspaandsalon.com/wp-content/uploads/2025/03/green-banner.jpg|caption^null|alt^Green with colored circles banner.|title^green-banner|description^null” css=”.vc_custom_1741733418356{padding-top: 3% !important;padding-bottom: 3% !important;}”][vc_column][vc_column_text css=””] \nGet lucky this month!\nOur March Specials\n[/vc_column_text][/vc_column][/vc_row][vc_row css=”.vc_custom_1741733461867{padding-top: 5% !important;padding-bottom: 5% !important;}”][vc_column][vc_row_inner][vc_column_inner width=”1/3″]\n\n	\nHair Removal Get a FREE Bikini OR Underarm\nwax with the purchase of a Full Leg\n*Series Discount available   [/vc_column_inner][vc_column_inner width=”1/4″][vc_column_text css=”.vc_custom_1741733500824{padding-top: 10% !important;}”]Wax – $80\nSugar – $90\nLaster – $190[/vc_column_text][/vc_column_inner][vc_column_inner width=”1/3″][/vc_column_inner][/vc_row_inner][/vc_column][vc_column][vc_row_inner][vc_column_inner]\n\n	\nBody Treatments Bodywrap with free red light therapy – $195 \nVI Derm body peel (choice of back\, buttocks or arms) – $350 \nBack treatment with choice of soothing or detox mask – $100   [/vc_column_inner][/vc_row_inner][/vc_column][vc_column][vc_row_inner][vc_column_inner width=”1/4″][/vc_column_inner][vc_column_inner width=”1/4″][/vc_column_inner][vc_column_inner width=”1/2″]\n\n	\nFeatured Products Peter Thomas Roth 24K Gold Hydragel Patches – $75 \nPTR Irish Moor Mud Purifying Black Mask – $58 \n25% off a facial with purchase of either product   [/vc_column_inner][/vc_row_inner][/vc_column][/vc_row]
URL:https://dejavumedspaandsalon.com/events/march-specials-2025/
CATEGORIES:Events
END:VEVENT
END:VCALENDAR