BEGIN:VCALENDAR
VERSION:2.0
PRODID:-//Deja Vu Med Spa and Salon - ECPv6.15.18//NONSGML v1.0//EN
CALSCALE:GREGORIAN
METHOD:PUBLISH
X-WR-CALNAME:Deja Vu Med Spa and Salon
X-ORIGINAL-URL:https://dejavumedspaandsalon.com
X-WR-CALDESC:Events for Deja Vu Med Spa and Salon
REFRESH-INTERVAL;VALUE=DURATION:PT1H
X-Robots-Tag:noindex
X-PUBLISHED-TTL:PT1H
BEGIN:VTIMEZONE
TZID:America/Los_Angeles
BEGIN:DAYLIGHT
TZOFFSETFROM:-0800
TZOFFSETTO:-0700
TZNAME:PDT
DTSTART:20230312T100000
END:DAYLIGHT
BEGIN:STANDARD
TZOFFSETFROM:-0700
TZOFFSETTO:-0800
TZNAME:PST
DTSTART:20231105T090000
END:STANDARD
BEGIN:DAYLIGHT
TZOFFSETFROM:-0800
TZOFFSETTO:-0700
TZNAME:PDT
DTSTART:20240310T100000
END:DAYLIGHT
BEGIN:STANDARD
TZOFFSETFROM:-0700
TZOFFSETTO:-0800
TZNAME:PST
DTSTART:20241103T090000
END:STANDARD
BEGIN:DAYLIGHT
TZOFFSETFROM:-0800
TZOFFSETTO:-0700
TZNAME:PDT
DTSTART:20250309T100000
END:DAYLIGHT
BEGIN:STANDARD
TZOFFSETFROM:-0700
TZOFFSETTO:-0800
TZNAME:PST
DTSTART:20251102T090000
END:STANDARD
END:VTIMEZONE
BEGIN:VEVENT
DTSTART;TZID=America/Los_Angeles:20241101T080000
DTEND;TZID=America/Los_Angeles:20241130T170000
DTSTAMP:20260424T051822
CREATED:20241107T002446Z
LAST-MODIFIED:20241121T234827Z
UID:56518-1730448000-1732986000@dejavumedspaandsalon.com
SUMMARY:November Specials 2024
DESCRIPTION:[vc_row css=”.vc_custom_1729292279071{padding-bottom: 3% !important;}”][vc_column][vc_column_text css=””] \nFeast on our November deals!\n[/vc_column_text][/vc_column][/vc_row][vc_row css=”.vc_custom_1730939143503{padding-bottom: 5% !important;}”][vc_column width=”1/2″][vc_column_text css=””] \nSLIMMING BODY WRAP\n$175 FULL BODY\n$130 HALF BODY\nWith a Bioslimming Body Wrap\, the resulting heat and active ingredients stimulate fat burning\, reduce adipose tissue\, and also stimulate the lymphatic system. Shown to reduce inches as well as cellulite. Get the upper hand on those holiday goodies. \n[/vc_column_text][/vc_column][vc_column width=”1/2″][vc_column_text css=””] \nMICRODERMABRASION + OXYGEN TRIO\n$200\nEnjoy a deep but gentle exfoliation with microdermabrasion to remove dead skin and impurities. Immediately nourish new skin with our Oxy Trio which helps to stimulate respiration and circulation within the skin. Promote healing and rejuvenate sluggish\, tired skin depleted by toxins\, pollutants\, allergens\, improper diet and solar damage. \n[/vc_column_text][/vc_column][/vc_row][vc_row css=”.vc_custom_1730939157572{padding-bottom: 5% !important;}”][vc_column width=”1/2″][vc_column_text css=””] \nEYELASH LIFT + TINT $130\nAn easy way to look instantly gorgeous for all of your upcoming seasonal activities. This combo service will give your eyes a brighter\, more awake look while reducing your morning routine. Yes\, please! \n[/vc_column_text][/vc_column][vc_column width=”1/2″][vc_column_text css=””] \n25% OFF PRODUCTS\nGet 25% off any PCA SKIN\, VI Derm or hair care products with the purchase of any service (not just our November specials!) \n[/vc_column_text][/vc_column][/vc_row][vc_row css=”.vc_custom_1730939413621{padding-top: 3% !important;padding-bottom: 5% !important;}”][vc_column width=”1/2″][/vc_column][vc_column width=”1/2″][vc_column_text css=””] \nSAVE THE DATE!\nPeel\, Poke and Prosecco! Saturday\, November 23\, 2024. Enjoy a glass of Prosecco as we preform a VI Peel and Botox on you. Reserve your spot now! \n[/vc_column_text][/vc_column][/vc_row][vc_row][vc_column]Peel\, Poke & Prosecco! EVENT[/vc_column][/vc_row]
URL:https://dejavumedspaandsalon.com/events/november-specials-2024/
CATEGORIES:Specials
END:VEVENT
END:VCALENDAR